BEGIN:VCALENDAR
VERSION:2.0
PRODID:icalendar-ruby
CALSCALE:GREGORIAN
METHOD:PUBLISH
BEGIN:VEVENT
DTSTAMP:20260425T122453Z
UID:47-547496@otisvillepres.org
DTSTART:20261025T133000Z
DTEND:20261025T143000Z
CLASS:PUBLIC
CREATED:20260425T064414
DESCRIPTION:Our traditional service is held at 9:30am.  The Empower childr
 en are welcome to attend and will be excused to attend their Empower Class
 es after the beginning of the service.\nThis service can also be viewed on
  YouTube at this time.\n 
LAST-MODIFIED:20260425T064414
LOCATION:Sanctuary
SUMMARY:Traditional Service
URL;VALUE=URI:https://www.otisvillepres.org/events/traditional-service/2026
 -10-25
ATTACH;FILENAME=SundayWorship_930AM.png;FMTTYPE=image/png:https://dq5pwpg1q
 8ru0.cloudfront.net/2025/03/24/21/54/14/5707caeb-5a65-4783-9f3a-dabfbcde93
 3c/SundayWorship_930AM.png
END:VEVENT
END:VCALENDAR
